Workbook
Name Customer: [1]mt!$I$15
Name Examiner: #REF!
Name Examiner: #REF!
Name Examiner: #REF!
Name Examiner: #REF!
Name Examiner: #REF!
Name Examiner: #REF!
Name Item: [1]mt!$I$19
Name jhjkjj: #REF!
Name jhjkjj: #REF!
Name jhjkjj: #REF!
Name Project: [1]mt!$AB$15
Name Report_No.: [1]mt!$AE$7
Name rt: #REF!
Name rt: #REF!
Name rt: #REF!
Name rt: #REF!
Name rt: #REF!
Name rt: #REF!
Name 검사여부: #REF!
Name 검사여부: #REF!
Name 검사여부: #REF!
Name 검사여부: #REF!
Name 선택: #REF!
Name 선택: #REF!
Name ㅇㄻㄴㅇㄹㄴ: #REF!
Name 판정결과: #REF!

Sheet 표지
A5: 비 파 괴 검 사 보 고 서
D9: 업 체 명 : | F9: 한라건기 / 현대건설
D11: 장 비 종 류 : | F11: 천공기
D12: (장 비 번 호) | F12: 부산22-6206
D14: 점 검 일 : | F14: 2025년03월27일
Q15: Const. Equipment
D16: 장 비 담 당 : | F16: 010 - 5814 - 4935
Q19: Date.
D23: 검사기관
E24: 엔지니어링 주체, 기계기술사 사무소
F29: 고용노동부 자율안전검사기관
F30: 타워크레인/항타기/크레인 자율안전검사 등 건설장비 점검
F31: 과학기술정보통신부
F32: 비파괴검사 등록기관
F33: 한국기술사회
F34: 등록번호 : 제2019-1149호 / 국제기술사 : ROK2015-0024호
D35: T .031)8067-6111, F. 6112 / e-mail : promechacom@naver.com
F38: 본 검사성적서는 ㈜프로메카 웹사이트에서 다운받으실수 있습니다.
F39: https://www.promecha.com/ssMachine/machine_list.php

Sheet 목차
C6: [목차]
D14: 1. 자 분 탐 상 검 사 보 고 서 | P14: 1. 자 분 탐 상 검 사 보 고 서
D16: 2. 지 적 사 항 | P16: 2. 초 음 파 탐 상 검 사 보 고 서
D18: 3. 검 사 원 자 격 증 | P18: 3. 지 적 사 항
D20: 4. 장 비 내 역 | P20: 4. 장 비 내 역
P22: 2. 검 사 원 자 격 증
K32: 엔지니어링 주체, 기계기술사 사무소
K35: 고용노동부지정검사기관/과기부비파괴검사등록기관

Sheet 지적사항
J3: 지 적 사 진
B10: Back Stay | K10: / | O10: 언더컷 | Z10: Under carriage | AI10: / | AM10: 언더컷 | AX10: 카운터지브 / 기공
B11: N/A | Z11: N/A
B23: Under carriage | K23: / | O23: 언더컷 | AI23: / | AX23: 카운터지브 / 기공
B24: N/A | Z24: N/A
K36: / | AI36: / | AX36: 카운터지브 / 기공
B37: N/A | Z37: N/A
K49: / | AI49: / | AX49: 카운터지브 / 기공
B50: N/A | Z50: N/A
A62: PRM Form No. MTR-ⓛ-A-CM(A4 210X297) | R62: PROMECHA | AI62: Page | AM62: 10 | AQ62: of | AS62: 10

Sheet MT
A1: 자 분 탐 상 비 파 괴 검 사 보 고 서
I3: 주 식 회 사 프 로 메 카 | Y3: Report No. | AG3: PRM | AJ3: - | AK3: MT | AN3: - | AO3: KY2503 | AT3: - | AU3: 4 | BC3: 보고서 번호 약호
Y4: 보고서번호 | BC4: PD : 항타기,천공기
I5: 경기도 수원시 권선구 산업로 198.수원델타원지식산업센터 833호. | Y5: Date of Report | AG5: =표지!F14 -> 2025년03월27일 | BC5: CC : 크레인류 ( 크롤러, 하이드로등 기중기)
Y6: 보고일자 | BC6: TC : 타워크레인 ( 반입전, 추가마스트 동일)
A7: Owner/Customer | I7: =표지!F9 -> 한라건기 / 현대건설 | Y7: Project Name/No. | AG7: 부산~진해 경제자유구역 와성지구 개발사업 | BC7: ED : 기타 (양중함,인양함 등 잡다한거)
A8: 소유사/고객 | Y8: 공사명/공사번호 | BC8: LT : 건설용리프트
A9: Item Name/No. | I9: =표지!F11 -> 천공기 | Y9: 장비형식 Equipment type | BC9: SKY : 고소작업차
A10: 제품명/제품번호 | I10: =표지!F12 -> 부산22-6206 | Y10: 궤도형 | AK10: 차륜형
A11: Material | I11: CARBON STEEL | Y11: 이 동 식 크 레 인 | AK11: 크 롤 러 크 레 인 | BX11: KS D 0213 [건설기계관리법시행규칙] 제27조 [타워크레인의 구조·규격 및 성능에 관한 기준
A12: 재질 | BC12: 이동식 크레인 | BK12: 고소작업차(Sky)
A13: Reference Std/Acc. Std | I13: KS D 0213 [건설기계관리법시행규칙] 제27조 | Y13: 항 타 기 | AK13: 건 설 용 리 프 트 | BC13: 크롤러 크레인 | BK13: 천 공 기
A14: 참고 규격 / 판정기준 | BC14: 항 타 기 | BK14: 리 프 트
A15: Procedure No. | I15: PRM-MT-KS-001 | U15: Rev. | W15: 1 | Y15: 굴 삭 기 | AK15: 기 타(천공기) | BC15: 굴 삭 기
A16: 절차서 번호 | U16: 개정 | BC16: 콘크리트 펌프카
A17: Test Equipment 검사장비 | I17: Maker 제조사 | O17: KYUNG DO CO.,LTD. | Y17: Weld Method | AG17: SMAW | AK17: SAW | AO17: GTAW | AS17: FCAW | BC17: 지 게 차
I18: Model 형 식 | O18: MT - A2D | Y18: 용접 방법
I19: S/N 일련번호 | O19: MP 1547/2460/3082/3093/3096 | Y19: Surface Condition | AG19: As Casted주조 | AO19: As Machined가공
I20: Cal. Due date 교정일자 | O20: 자체교정주기 적용 | Y20: 표면상태 | AG20: As Welded용접 | AO20: As Ground연마
A21: Output 출 력 | I21: LIFFTING POWER (MIN 18.2 Kg) | Y21: Magnetic Particle 자 분 | AG21: Maker 제조사 | AM21: KYUNGDO ENTERPRISE CO.,LTD.
A22: Applying Current 통전법 Magnetization Technique 자화 방법 | I22: 연속법 Continuous | Q22: 잔류법 Residual | AG22: Type 형 태 | AM22: 7C-BLACK
I23: 극간법 Yoke | Q23: 프로드법 Prod | AG23: LOT No. | AM23: 202831
I24: 코일법 Coil | Y24: Wet 습식 | AE24: Color염색 | AK24: Dry 건식 | AP24: Fluorescent 형광
A25: Light Source 조명 장비 | I25: INCANDESCENT LIGHT 200W | Y25: Light Intensity 조도 | AM25: 1000 Lux
I26: Natural light | Y26: SurfaceTemp 표면온도 | AM26: 21 | AT26: ℃
A27: Reference Block 대비 시험편 | I27: FIELD INDICATOR | Y27: Demagnetization 탈 자 | AG27: YES | AO27: NO
A29: Magnetization Current 자화 전류 | I29: 교류 AC | Q29: 110V,4.0 | V29: Amps 암페아 | Y29: Magnetization Spacing 자화 간격 | AG29: 4 ~ 6 | AS29: mm
I30: 직류 DC | AS30: inch
A31: Identification No. | Q31: Accept | T31: Reject | W31: Interpretation | AQ31: 비 고
A32: 확인번호 | Q32: 합 격 | T32: 불합격 | AQ32: Remarks
A33: Feeder | T33: V | W33: Crack 1개소
A34: A Frame | T34: V | W34: Crack 1개소 | BM34: A Frame
A35: Arm | Q35: V | W35: 유해한 결함지시 없음. | BM35: Leader
A36: Cylinder | Q36: V | W36: " | BM36: Cylinder
A37: Turn Table | Q37: V | W37: " | AW37: 상황에 맞게 | BM37: Top Sheave
A38: Under frame | Q38: V | W38: " | AW38: 검사포인트 삽입 | BM38: Back stay | DC38: 신 해 영 | DP38: 기 사
A39: Under carriage | Q39: V | W39: 유해한 결함지시 없음. | AW39: ----------> | BM39: Outrigger
W40: - B L A N K - | BM40: Under carriage | DC40: 홍 지 영 | DP40: 산업기사
BM41: Under frame
BM42: Turn Table | DC42: 박 동 욱 | DP42: 기능사
A44: Examiner/Interpreter | I44: 서 건 열 | V44: 기능사 | Y44: Date of Examination | AG44: =AG5 -> 2025년03월27일
A45: 시험자/판독자 | Y45: 검사일자
A46: Confirmer Person | I46: 황 승 천 | V46: 기 사 | Y46: Witnesser/Reviewer
A47: 승 인 자 | Y47: 입회자/검토자
A48: PRM Form No. MTR-ⓛ-A-CM(A4 210X297) | R48: PROMECHA | AI48: Page | AM48: 1 | AQ48: of | AS48: 11
A49: =A1 -> 자 분 탐 상 비 파 괴 검 사 보 고 서
A51: 과학기술정보통신부 | I51: 주 식 회 사 프 로 메 카 | Y51: Report No. | AG51: PRM | AJ51: - | AK51: MT | AN51: - | AO51: =AO3 -> KY2503 | AT51: - | AU51: =AU3 -> 4
A52: 비파괴검사기관 | Y52: 보고서번호
A53: Promecha | I53: 경기도 수원시 권선구 산업로 198.수원델타원지식산업센터 833호. | Y53: Date of Report | AG53: =AG5 -> 2025년03월27일
I54: TEL : 031-8067-6111/promechacom@naver.com | Y54: 보고일자
A55: 천공기 부산22-6206
A100: PRM Form No. MTR-ⓛ-A-CM(A4 210X297) | R100: PROMECHA | AI100: Page | AM100: 2 | AQ100: of | AS100: 11
A101: =A49 -> 자 분 탐 상 비 파 괴 검 사 보 고 서
A103: 과학기술정보통신부 | I103: 주 식 회 사 프 로 메 카 | Y103: Report No. | AG103: PRM | AJ103: - | AK103: MT | AN103: - | AO103: =AO3 -> KY2503 | AT103: - | AU103: =AU3 -> 4
A104: 비파괴검사기관 | Y104: 보고서번호
A105: Promecha | I105: 경기도 수원시 권선구 산업로 198.수원델타원지식산업센터 833호. | Y105: Date of Report | AG105: =AG5 -> 2025년03월27일
I106: TEL : 031-8067-6111/promechacom@naver.com | Y106: 보고일자
A107: Feeder - 용접부 상태 양호
BF112: A Frame
BF113: Leader
BF114: Cylinder
BF115: Top Sheave
BF116: Backstay(좌,우)
BF117: Outrigger
BF118: Undercarriage
BF119: Under frame
A152: PRM Form No. MTR-ⓛ-A-CM(A4 210X297) | R152: PROMECHA | AI152: Page | AM152: 3 | AQ152: of | AS152: 11
A153: =A101 -> 자 분 탐 상 비 파 괴 검 사 보 고 서
A155: 과학기술정보통신부 | I155: 주 식 회 사 프 로 메 카 | Y155: Report No. | AG155: PRM | AJ155: - | AK155: MT | AN155: - | AO155: =AO3 -> KY2503 | AT155: - | AU155: =AU3 -> 4
A156: 비파괴검사기관 | Y156: 보고서번호 | BG156: Leader
A157: Promecha | I157: 경기도 수원시 권선구 산업로 198.수원델타원지식산업센터 833호. | Y157: Date of Report | AG157: =AG5 -> 2025년03월27일 | BG157: Cylinder
I158: TEL : 031-8067-6111/promechacom@naver.com | Y158: 보고일자 | BG158: Top Sheave
A159: Feeder - Crack 1개소 | BG159: Backstay(좌,우)
BG160: Outrigger
BG161: Undercarriage
BG162: Under frame
A204: PRM Form No. MTR-ⓛ-A-CM(A4 210X297) | R204: PROMECHA | AI204: Page | AM204: 4 | AQ204: of | AS204: 11
A205: =A153 -> 자 분 탐 상 비 파 괴 검 사 보 고 서
A207: 과학기술정보통신부 | I207: 주 식 회 사 프 로 메 카 | Y207: Report No. | AG207: PRM | AJ207: - | AK207: MT | AN207: - | AO207: =AO3 -> KY2503 | AT207: - | AU207: =AU3 -> 4
A208: 비파괴검사기관 | Y208: 보고서번호 | BJ208: Backstay(좌,우)
A209: Promecha | I209: 경기도 수원시 권선구 산업로 198.수원델타원지식산업센터 833호. | Y209: Date of Report | AG209: =AG5 -> 2025년03월27일 | BJ209: Outrigger
I210: TEL : 031-8067-6111/promechacom@naver.com | Y210: 보고일자 | BJ210: Undercarriage
A211: A Frame - Crack 1개소 | BJ211: Under frame
A256: PRM Form No. MTR-ⓛ-A-CM(A4 210X297) | R256: PROMECHA | AI256: Page | AM256: 5 | AQ256: of | AS256: 11
A257: =A205 -> 자 분 탐 상 비 파 괴 검 사 보 고 서
A259: 과학기술정보통신부 | I259: 주 식 회 사 프 로 메 카 | Y259: Report No. | AG259: PRM | AJ259: - | AK259: MT | AN259: - | AO259: =AO3 -> KY2503 | AT259: - | AU259: =AU3 -> 4
A260: 비파괴검사기관 | Y260: 보고서번호 | BJ260: Backstay(좌,우)
A261: Promecha | I261: 경기도 수원시 권선구 산업로 198.수원델타원지식산업센터 833호. | Y261: Date of Report | AG261: =AG5 -> 2025년03월27일 | BJ261: Outrigger
I262: TEL : 031-8067-6111/promechacom@naver.com | Y262: 보고일자 | BJ262: Undercarriage
A263: Arm - 용접부 상태 양호 | BJ263: Under frame
A308: PRM Form No. MTR-ⓛ-A-CM(A4 210X297) | R308: PROMECHA | AI308: Page | AM308: 6 | AQ308: of | AS308: 11
A309: =A257 -> 자 분 탐 상 비 파 괴 검 사 보 고 서
A311: 과학기술정보통신부 | I311: 주 식 회 사 프 로 메 카 | Y311: Report No. | AG311: PRM | AJ311: - | AK311: MT | AN311: - | AO311: =AO3 -> KY2503 | AT311: - | AU311: =AU3 -> 4
A312: 비파괴검사기관 | Y312: 보고서번호 | BJ312: Backstay(좌,우)
A313: Promecha | I313: 경기도 수원시 권선구 산업로 198.수원델타원지식산업센터 833호. | Y313: Date of Report | AG313: =AG5 -> 2025년03월27일 | BJ313: Outrigger
I314: TEL : 031-8067-6111/promechacom@naver.com | Y314: 보고일자 | BJ314: Undercarriage
A315: Cylinder - 용접부 상태 양호 | BJ315: Under frame
A360: PRM Form No. MTR-ⓛ-A-CM(A4 210X297) | R360: PROMECHA | AI360: Page | AM360: 7 | AQ360: of | AS360: 11
A361: =A309 -> 자 분 탐 상 비 파 괴 검 사 보 고 서
A363: 과학기술정보통신부 | I363: 주 식 회 사 프 로 메 카 | Y363: Report No. | AG363: PRM | AJ363: - | AK363: MT | AN363: - | AO363: =AO3 -> KY2503 | AT363: - | AU363: =AU3 -> 4
...

Sheet 지적사진 
J3: 지 적 사 진
B10: 천공기 | K10: / | O10: 전 경 | Z10: 천공기 | AI10: / | AM10: 전경
B11: N/A
B23: A Frame | K23: / | O23: 전경 | Z23: A Frame | AI23: / | AM23: Crack
B24: N/A
B36: Feeder | K36: / | O36: 전경 | Z36: Feeder | AI36: / | AM36: Crack
K49: / | AI49: /
BF62: A Frame

Sheet MT자격증
A1: MAGNETIC PARTICLE EXAMINATION REPORT
A2: 자 분 탐 상 검 사 보 고 서
I3: 주 식 회 사 프 로 메 카 | Y3: Report No. | AG3: PRM | AJ3: - | AK3: MT | AN3: - | AO3: =MT!AO3 -> KY2503 | AT3: - | AU3: =MT!AU3 -> 4
Y4: 보고서번호
I5: 경기도 수원시 권선구 산업로 198.수원델타원지식산업센터 833호. | Y5: Date of Report | AG5: =MT!AG5 -> 2025년03월27일
Y6: 보고일자
A7: 자 격 증 첨 부
A9: 검 사 원
A30: 책 임 자 (승 인 자)
AI52: Page | AM52: 11 | AQ52: of | AS52: 11

Sheet 비파괴검사업등록증
I1: 주 식 회 사 프 로 메 카 | Y1: Report No. | AG1: PRM | AJ1: - | AK1: MT | AN1: - | AO1: =[2]MT!AO3 -> KY2503 | AT1: - | AU1: 4
Y2: 보고서번호
I3: 경기도 수원시 권선구 산업로198, 833호 | Y3: Date of Report | AG3: 2025년03월27일
I4: TEL : 031-8067-6111/promechacom@naver.com | Y4: 보고일자
A5: 비파괴검사업 등록증 첨부

Sheet 장비내역
A1: 검 사 장 비 내 역
A4: 자 분 탐 상 검 사 장 비 (MT) | AI4: 적용 | AQ4: 미적용
AI6: 제 조 사 | AN6: KYUNG DO
AI11: 형 식 | AN11: MT - A2D
AI16: 일 련 번 호 | AN16: MP 1547 MP 2460 MP 3082 MP 3093 MP 3096 MP 3460
A21: 자 외 선 조 사 장 치 (형광MT) | AI21: 적용 | AQ21: 미적용
AI23: 제 조 사 | AN23: NAWOO
AI28: 형 식 | AN28: UV-LED 2P/SPR
AI33: 일 련 번 호 | AN33: NW0468
A38: 초 음 파 탐 상 검 사 장 비 (UT) | AI38: 적용 | AQ38: 미적용
AI40: 제 조 사 | AN40: OLYMPUS
AI45: 형 식 | AN45: EPOCH 6LT
AI50: 일 련 번 호 | AN50: 190099912 200149901
AF56: 엔지니어링 주체, 기계기술사 사무소
AF61: 고용노동부지정검사기관/과기부비파괴검사등록기관
